BEGIN:VCALENDAR
VERSION:2.0
PRODID:-//GoCoverCrops - ECPv6.15.20//NONSGML v1.0//EN
CALSCALE:GREGORIAN
METHOD:PUBLISH
X-ORIGINAL-URL:https://gocovercrops.com
X-WR-CALDESC:Events for GoCoverCrops
REFRESH-INTERVAL;VALUE=DURATION:PT1H
X-Robots-Tag:noindex
X-PUBLISHED-TTL:PT1H
BEGIN:VTIMEZONE
TZID:America/Chicago
BEGIN:DAYLIGHT
TZOFFSETFROM:-0600
TZOFFSETTO:-0500
TZNAME:CDT
DTSTART:20250309T080000
END:DAYLIGHT
BEGIN:STANDARD
TZOFFSETFROM:-0500
TZOFFSETTO:-0600
TZNAME:CST
DTSTART:20251102T070000
END:STANDARD
BEGIN:DAYLIGHT
TZOFFSETFROM:-0600
TZOFFSETTO:-0500
TZNAME:CDT
DTSTART:20260308T080000
END:DAYLIGHT
BEGIN:STANDARD
TZOFFSETFROM:-0500
TZOFFSETTO:-0600
TZNAME:CST
DTSTART:20261101T070000
END:STANDARD
BEGIN:DAYLIGHT
TZOFFSETFROM:-0600
TZOFFSETTO:-0500
TZNAME:CDT
DTSTART:20270314T080000
END:DAYLIGHT
BEGIN:STANDARD
TZOFFSETFROM:-0500
TZOFFSETTO:-0600
TZNAME:CST
DTSTART:20271107T070000
END:STANDARD
END:VTIMEZONE
BEGIN:VEVENT
DTSTART;TZID=America/Chicago:20260303T100000
DTEND;TZID=America/Chicago:20260303T140000
DTSTAMP:20260424T041717
CREATED:20251207T113228Z
LAST-MODIFIED:20251207T113357Z
UID:6453-1772532000-1772546400@gocovercrops.com
SUMMARY:Lower Wabash Partnership 1st Annual Meeting- Grayville\, IL
DESCRIPTION:Lower Wabash Partnership 1st Annual Meeting and Partner Roundup \nWhen: March 3rd\, 2026 \nWhere: Westwood Saloon– 200 Koehler St\, Grayville\, IL 62844 \nTime 10am- 2pm \nDeadline to register February 20\, 2026 \nDoors will open at 9:30 am CT \nLunch provided by the Smokin’ Pig (coffee and donuts will be provided before the meeting) \nVisit the website at www.lowerwabashpartnership.org to RSVP without the QR code \nImportant!  Only 100 seats available
URL:https://gocovercrops.com/event/lower-wabash-partnership-1st-annual-meeting-grayville-il/
LOCATION:Westwood Saloon\, 200 Koehler St\, Grayville\, IL\, 62844\, United States
END:VEVENT
END:VCALENDAR