BEGIN:VCALENDAR
VERSION:2.0
PRODID:-//GoCoverCrops - ECPv6.15.20//NONSGML v1.0//EN
CALSCALE:GREGORIAN
METHOD:PUBLISH
X-ORIGINAL-URL:https://gocovercrops.com
X-WR-CALDESC:Events for GoCoverCrops
REFRESH-INTERVAL;VALUE=DURATION:PT1H
X-Robots-Tag:noindex
X-PUBLISHED-TTL:PT1H
BEGIN:VTIMEZONE
TZID:America/Chicago
BEGIN:DAYLIGHT
TZOFFSETFROM:-0600
TZOFFSETTO:-0500
TZNAME:CDT
DTSTART:20250309T080000
END:DAYLIGHT
BEGIN:STANDARD
TZOFFSETFROM:-0500
TZOFFSETTO:-0600
TZNAME:CST
DTSTART:20251102T070000
END:STANDARD
BEGIN:DAYLIGHT
TZOFFSETFROM:-0600
TZOFFSETTO:-0500
TZNAME:CDT
DTSTART:20260308T080000
END:DAYLIGHT
BEGIN:STANDARD
TZOFFSETFROM:-0500
TZOFFSETTO:-0600
TZNAME:CST
DTSTART:20261101T070000
END:STANDARD
BEGIN:DAYLIGHT
TZOFFSETFROM:-0600
TZOFFSETTO:-0500
TZNAME:CDT
DTSTART:20270314T080000
END:DAYLIGHT
BEGIN:STANDARD
TZOFFSETFROM:-0500
TZOFFSETTO:-0600
TZNAME:CST
DTSTART:20271107T070000
END:STANDARD
END:VTIMEZONE
BEGIN:VEVENT
DTSTART;TZID=America/Chicago:20260307T090000
DTEND;TZID=America/Chicago:20260307T120000
DTSTAMP:20260424T041621
CREATED:20260215T065544Z
LAST-MODIFIED:20260215T065934Z
UID:6544-1772874000-1772884800@gocovercrops.com
SUMMARY:Soil Health: Foundation for Regenerative Agriculture
DESCRIPTION:A free community workshop on the importance of soil for building healthy food systems! \n\n\n\n\nPlease join us at Wild Farm SATX for an experiential workshop where we will discuss the important role soil health plays in regenerative agriculture. The workshop will illuminate basic regenerative ag principles and techniques for improving soil health. It will include a farm tour\, demonstrations\, and instruction on simple\, hands-on soil assessment techniques. \nThis FREE event is open to everyone — farmers\, ranchers\, landowners\, gardeners\, and agricultural enthusiasts alike! \nFor More Info: https://www.smallproducersinitiative.org/workshops \nDetailed directions and an agenda for this workshop will be emailed to those who register 2-3 days prior to the event. If you do not see that email\, please be sure to check your spam. For questions\, email chz18@txstate.edu. \nINSTRUCTOR: \nDr. Ken Mix is the Program director of The Small Producer Initiative at Texas State University and currently teaches entomology\, soil health\, and crop production\, with active research on small producer needs\, soil\, and water resources. He is a former vegetable producer and currently runs SKM Homestead\, a small livestock and mixed produce 50-acre farm in Fentress\, Texas. \nThe Small Producers Initiative (SPI) equips farmers and ranchers with the tools\, training\, and knowledge needed to restore soil health\, build drought resilience\, and develop profitable\, climate-smart agricultural operations grounded in responsible land stewardship.
URL:https://gocovercrops.com/event/soil-health-foundation-for-regenerative-agriculture/
LOCATION:The Wild Farm SATX\, 410 East Cheryl Drive\, San Antonio\, TX\, 78228\, United States
ATTACH;FMTTYPE=image/webp:https://gocovercrops.com/wp-content/uploads/2026/02/Foundation-for-Regenerative-Agriculture.webp
END:VEVENT
END:VCALENDAR