BEGIN:VCALENDAR
VERSION:2.0
PRODID:-//GoCoverCrops - ECPv6.15.20//NONSGML v1.0//EN
CALSCALE:GREGORIAN
METHOD:PUBLISH
X-WR-CALNAME:GoCoverCrops
X-ORIGINAL-URL:https://gocovercrops.com
X-WR-CALDESC:Events for GoCoverCrops
REFRESH-INTERVAL;VALUE=DURATION:PT1H
X-Robots-Tag:noindex
X-PUBLISHED-TTL:PT1H
BEGIN:VTIMEZONE
TZID:America/Los_Angeles
BEGIN:DAYLIGHT
TZOFFSETFROM:-0800
TZOFFSETTO:-0700
TZNAME:PDT
DTSTART:20250309T100000
END:DAYLIGHT
BEGIN:STANDARD
TZOFFSETFROM:-0700
TZOFFSETTO:-0800
TZNAME:PST
DTSTART:20251102T090000
END:STANDARD
BEGIN:DAYLIGHT
TZOFFSETFROM:-0800
TZOFFSETTO:-0700
TZNAME:PDT
DTSTART:20260308T100000
END:DAYLIGHT
BEGIN:STANDARD
TZOFFSETFROM:-0700
TZOFFSETTO:-0800
TZNAME:PST
DTSTART:20261101T090000
END:STANDARD
BEGIN:DAYLIGHT
TZOFFSETFROM:-0800
TZOFFSETTO:-0700
TZNAME:PDT
DTSTART:20270314T100000
END:DAYLIGHT
BEGIN:STANDARD
TZOFFSETFROM:-0700
TZOFFSETTO:-0800
TZNAME:PST
DTSTART:20271107T090000
END:STANDARD
END:VTIMEZONE
BEGIN:VTIMEZONE
TZID:America/Halifax
BEGIN:DAYLIGHT
TZOFFSETFROM:-0400
TZOFFSETTO:-0300
TZNAME:ADT
DTSTART:20250309T060000
END:DAYLIGHT
BEGIN:STANDARD
TZOFFSETFROM:-0300
TZOFFSETTO:-0400
TZNAME:AST
DTSTART:20251102T050000
END:STANDARD
BEGIN:DAYLIGHT
TZOFFSETFROM:-0400
TZOFFSETTO:-0300
TZNAME:ADT
DTSTART:20260308T060000
END:DAYLIGHT
BEGIN:STANDARD
TZOFFSETFROM:-0300
TZOFFSETTO:-0400
TZNAME:AST
DTSTART:20261101T050000
END:STANDARD
BEGIN:DAYLIGHT
TZOFFSETFROM:-0400
TZOFFSETTO:-0300
TZNAME:ADT
DTSTART:20270314T060000
END:DAYLIGHT
BEGIN:STANDARD
TZOFFSETFROM:-0300
TZOFFSETTO:-0400
TZNAME:AST
DTSTART:20271107T050000
END:STANDARD
END:VTIMEZONE
BEGIN:VTIMEZONE
TZID:America/New_York
BEGIN:DAYLIGHT
TZOFFSETFROM:-0500
TZOFFSETTO:-0400
TZNAME:EDT
DTSTART:20250309T070000
END:DAYLIGHT
BEGIN:STANDARD
TZOFFSETFROM:-0400
TZOFFSETTO:-0500
TZNAME:EST
DTSTART:20251102T060000
END:STANDARD
BEGIN:DAYLIGHT
TZOFFSETFROM:-0500
TZOFFSETTO:-0400
TZNAME:EDT
DTSTART:20260308T070000
END:DAYLIGHT
BEGIN:STANDARD
TZOFFSETFROM:-0400
TZOFFSETTO:-0500
TZNAME:EST
DTSTART:20261101T060000
END:STANDARD
BEGIN:DAYLIGHT
TZOFFSETFROM:-0500
TZOFFSETTO:-0400
TZNAME:EDT
DTSTART:20270314T070000
END:DAYLIGHT
BEGIN:STANDARD
TZOFFSETFROM:-0400
TZOFFSETTO:-0500
TZNAME:EST
DTSTART:20271107T060000
END:STANDARD
END:VTIMEZONE
BEGIN:VEVENT
DTSTART;TZID=America/Los_Angeles:20260318T080000
DTEND;TZID=America/Los_Angeles:20260319T170000
DTSTAMP:20260424T041520
CREATED:20260215T063908Z
LAST-MODIFIED:20260215T063908Z
UID:6541-1773820800-1773939600@gocovercrops.com
SUMMARY:California Soil Health Field Days -2026
DESCRIPTION:Two-day event on regenerative practices with keynotes\, panels\, producer talks\, demos\, tours\, vendors & hosted lunches and social hour. \n\n\n\n\nMarch 18 & 19\, 2026\nChico State University Farm\n311 Nicholas C Shouten Lane\nChico\, CA 95928 \nStep into the future of farming during this immersive event focused on regenerative agriculture – where healthier soils\, resilient farms\, and long-term profitability come together. \nConnected with inspiring speakers\, educators\, researchers\, and fellow farmers\, dive into hands-on field demonstrations\, explore a vibrant vendor fair\, and enjoy a catered lunch both days. \nQuestions? Contact Emily Moore at eemore@csuchico.edu or call 530-898-4335.
URL:https://gocovercrops.com/event/california-soil-health-field-days-2026/
LOCATION:CSU\, Chico University Farm\, 311 Nicholas C Shouten Lane\, Chico\, CA\, 95928\, United States
ATTACH;FMTTYPE=image/webp:https://gocovercrops.com/wp-content/uploads/2026/02/California-Soil-Health-Field-Days.webp
END:VEVENT
BEGIN:VEVENT
DTSTART;TZID=America/Halifax:20260319T083000
DTEND;TZID=America/Halifax:20260319T130000
DTSTAMP:20260424T041520
CREATED:20260314T081344Z
LAST-MODIFIED:20260314T082006Z
UID:6600-1773909000-1773925200@gocovercrops.com
SUMMARY:Conservation Focus Workshop & PARP\, Richmond\, IN
DESCRIPTION:Conservation Focus Workshop\nMarch 19\, 2026 @ 9AM  Doors open at 8:30AM for networking with sponsors\, coffee\, and donuts \nFirst Bank Kuhlman Center-Wayne Co Fairgrounds\nRichmond\, IN 47374 \nTopics:\nAGENCY UPDATES\nNatural Resources Conservation Service\, Purdue Extension\, Farm Service Agency\,Wayne County SWCD\, State of Indiana Cooperative Invasives Management\,Indiana State Department of Agriculture\, and Resilient Indiana \nECONOMICS IN AGRICULTURE & CONSERVATION\nRodney Rulon\, Rulon Enterprises- Arcadia\, IN \nPLANNING AHEAD FOR COVER CROPS\nBryan Overstreet\, Purdue Extension/CCSI\, Conservation Agronomist \nREGULATORY TOPICS\nJustin Curley\, Regional Extension Educator\, County Extension Director \nMeal RSVP Required by March 13:\nBy phone- 765-373-9542\nBy email-raquel.baker@in.nacdnet.net\nBy Eventbrite- CFW2026.eventbrite.com \nLunch provided byarea agri-business sponsors!\nCCA credits available
URL:https://gocovercrops.com/event/conservation-focus-workshop-parp-richmond-in/
LOCATION:First Bank Kuhlman Center\, 861 Salisbury Rd\, Richmond\, IN\, 47374\, United States
END:VEVENT
BEGIN:VEVENT
DTSTART;TZID=America/Halifax:20260319T100000
DTEND;TZID=America/Halifax:20260319T130000
DTSTAMP:20260424T041520
CREATED:20260314T091116Z
LAST-MODIFIED:20260314T091116Z
UID:6606-1773914400-1773925200@gocovercrops.com
SUMMARY:2026 Nutrient Stewardship Field Day
DESCRIPTION:2026 Nutrient Stewardship Field Day\nMarch\, 19\, 2026\n9 AM-12 PM Central time\nRain or Shine\nLunch Provided \nWill South Cook Soil and Water Conservation District\n1201 S. Gougar Road\nNew Lenox\, IL \nRSVP BY: FRIDAY\, MARCH 13. Call (815) 727-4811to the Will County Farm Bureau \nAGENDA\n9:30 – 10:30 | Torey Colburn\nINTRODUCTION TO SOIL HEALTH\n10:30 – 11:30 | Dr. Andrew Margonot\nFERTILIZER UTILIZATION IN CROPS\n11:30 – 11:45 | Heritage F.S.\nPRICING OUTLOOK FOR FERTILIZER\n11:45 – 12:00 | Trenton Rader2026\nNRCS PROGRAMS\n12:00 | LUNCH\nprovided by WCFB \nSPEAKER BIO:\n\nTorey Colburn is the Midwest Conservation Agronomist with American Farmland Trust and an active member of the Illinois Sustainable Ag Partnership (ISAP). He works directly with producers and ag advisers to advance soil health\, improve nutrient efficiency\, and support the adoption of practical\, in-field conservation practices. A Certified Crop Adviser with over 15 years of agronomic experience\, Torey provides field-level technical agronomic support\, leads on-farm demonstrations\, and helps producers and advisers integrate profitable and sustainable solutions into their management systems
URL:https://gocovercrops.com/event/2026-nutrient-stewardship-field-day/
LOCATION:Will South Cook Soil & Water\, 1201 Gougar Rd\, New Lenox\, IL\, 60451\, United States
END:VEVENT
BEGIN:VEVENT
DTSTART;TZID=America/New_York:20260319T100000
DTEND;TZID=America/New_York:20260319T150000
DTSTAMP:20260424T041520
CREATED:20260314T083507Z
LAST-MODIFIED:20260314T085647Z
UID:6603-1773914400-1773932400@gocovercrops.com
SUMMARY:Soybean Outlook 2026- Plan\, Prepare\, Protect; Cayuga\, Indiana
DESCRIPTION:Thursday\, March 19th\, 2026\n10 am -3:00 pm \nWhat to expect:\nTommy Butts– Clinical Assistant Professor\, Site Specific Weed Management- What’s in your toolbox?  Battling water hemp and other herbicide-resistant weeds \nShaun Casteel- Professor of Agronomy- Meeting the needs of your crop \nCarter Morgan– Vermillion County Farmer– Farmer Panel \nPhil Cox– Purdue ANR– PARP topic \nRegister by March 12.  Call 765-492-3705 Vermillion SWCD \nPARP credits available!  \n\n\nLunch provided for all attendees.
URL:https://gocovercrops.com/event/soybean-outlook-2026-plan-prepare-protect-cayuga-indiana/
LOCATION:Vermillion County Fairgrounds\, Fairgrounds Rd\, Cayuga\, IN\, 47928\, United States
END:VEVENT
END:VCALENDAR